[Date Prev][Date Next][Thread Prev][Thread Next][Date Index][Thread Index] [ovmf test] 175149: all pass - PUSHED
flight 175149 ovmf real [real] http://logs.test-lab.xenproject.org/osstest/logs/175149/ Perfect :-) All tests in this flight passed as required version targeted for testing: ovmf a6542894391bae58b7704b2624b541a2b8b9ed93 baseline version: ovmf 4cb94f20b002c99dd2b4b75f07c5495b81a34ffd Last test of basis 175142 2022-12-10 16:10:52 Z 1 days Testing same since 175149 2022-12-12 01:55:58 Z 0 days 1 attempts ------------------------------------------------------------ People who touched revisions under test: Albecki, Mateusz <mateusz.albecki@xxxxxxxxx> Mateusz Albecki <mateusz.albecki@xxxxxxxxx> jobs: build-amd64-xsm pass build-i386-xsm pass build-amd64 pass build-i386 pass build-amd64-libvirt pass build-i386-libvirt pass build-amd64-pvops pass build-i386-pvops pass test-amd64-amd64-xl-qemuu-ovmf-amd64 pass test-amd64-i386-xl-qemuu-ovmf-amd64 pass ------------------------------------------------------------ sg-report-flight on osstest.test-lab.xenproject.org logs: /home/logs/logs images: /home/logs/images Logs, config files, etc. are available at http://logs.test-lab.xenproject.org/osstest/logs Explanation of these reports, and of osstest in general, is at http://xenbits.xen.org/gitweb/?p=osstest.git;a=blob;f=README.email;hb=master http://xenbits.xen.org/gitweb/?p=osstest.git;a=blob;f=README;hb=master Test harness code can be found at http://xenbits.xen.org/gitweb?p=osstest.git;a=summary Pushing revision : To xenbits.xen.org:/home/xen/git/osstest/ovmf.git 4cb94f20b0..a654289439 a6542894391bae58b7704b2624b541a2b8b9ed93 -> xen-tested-master
|
![]() |
Lists.xenproject.org is hosted with RackSpace, monitoring our |