[Date Prev][Date Next][Thread Prev][Thread Next][Date Index][Thread Index] [ovmf test] 174557: all pass - PUSHED
flight 174557 ovmf real [real] http://logs.test-lab.xenproject.org/osstest/logs/174557/ Perfect :-) All tests in this flight passed as required version targeted for testing: ovmf 66772bc8523ce7898eb470efc7aef65c2062b2aa baseline version: ovmf e9a3613ce0667fea2ac15f19cf8ef6aab4b73fdd Last test of basis 174554 2022-10-31 12:40:57 Z 0 days Testing same since 174557 2022-10-31 17:42:01 Z 0 days 1 attempts ------------------------------------------------------------ People who touched revisions under test: Pierre Gondois <Pierre.Gondois@xxxxxxx> jobs: build-amd64-xsm pass build-i386-xsm pass build-amd64 pass build-i386 pass build-amd64-libvirt pass build-i386-libvirt pass build-amd64-pvops pass build-i386-pvops pass test-amd64-amd64-xl-qemuu-ovmf-amd64 pass test-amd64-i386-xl-qemuu-ovmf-amd64 pass ------------------------------------------------------------ sg-report-flight on osstest.test-lab.xenproject.org logs: /home/logs/logs images: /home/logs/images Logs, config files, etc. are available at http://logs.test-lab.xenproject.org/osstest/logs Explanation of these reports, and of osstest in general, is at http://xenbits.xen.org/gitweb/?p=osstest.git;a=blob;f=README.email;hb=master http://xenbits.xen.org/gitweb/?p=osstest.git;a=blob;f=README;hb=master Test harness code can be found at http://xenbits.xen.org/gitweb?p=osstest.git;a=summary Pushing revision : To xenbits.xen.org:/home/xen/git/osstest/ovmf.git e9a3613ce0..66772bc852 66772bc8523ce7898eb470efc7aef65c2062b2aa -> xen-tested-master
|
![]() |
Lists.xenproject.org is hosted with RackSpace, monitoring our |