[Date Prev][Date Next][Thread Prev][Thread Next][Date Index][Thread Index] [ovmf test] 170728: all pass - PUSHED
flight 170728 ovmf real [real] http://logs.test-lab.xenproject.org/osstest/logs/170728/ Perfect :-) All tests in this flight passed as required version targeted for testing: ovmf 9c733f0b90b31a7e3711f60da314f2a5cfe5fe8a baseline version: ovmf a21a3438f795deecb24e1843c1636f95c485017c Last test of basis 170710 2022-05-23 18:12:51 Z 1 days Testing same since 170728 2022-05-25 12:40:37 Z 0 days 1 attempts ------------------------------------------------------------ People who touched revisions under test: Isaku Yamahata <isaku.yamahata@xxxxxxxxx> jobs: build-amd64-xsm pass build-i386-xsm pass build-amd64 pass build-i386 pass build-amd64-libvirt pass build-i386-libvirt pass build-amd64-pvops pass build-i386-pvops pass test-amd64-amd64-xl-qemuu-ovmf-amd64 pass test-amd64-i386-xl-qemuu-ovmf-amd64 pass ------------------------------------------------------------ sg-report-flight on osstest.test-lab.xenproject.org logs: /home/logs/logs images: /home/logs/images Logs, config files, etc. are available at http://logs.test-lab.xenproject.org/osstest/logs Explanation of these reports, and of osstest in general, is at http://xenbits.xen.org/gitweb/?p=osstest.git;a=blob;f=README.email;hb=master http://xenbits.xen.org/gitweb/?p=osstest.git;a=blob;f=README;hb=master Test harness code can be found at http://xenbits.xen.org/gitweb?p=osstest.git;a=summary Pushing revision : To xenbits.xen.org:/home/xen/git/osstest/ovmf.git a21a3438f7..9c733f0b90 9c733f0b90b31a7e3711f60da314f2a5cfe5fe8a -> xen-tested-master
|
![]() |
Lists.xenproject.org is hosted with RackSpace, monitoring our |