[Date Prev][Date Next][Thread Prev][Thread Next][Date Index][Thread Index] [qemu-mainline test] 168962: trouble: blocked/broken/pass
flight 168962 qemu-mainline real [real] http://logs.test-lab.xenproject.org/osstest/logs/168962/ Failures and problems with tests :-( Tests which did not succeed and are blocking, including tests which could not be run: build-amd64 <job status> broken build-amd64-pvops <job status> broken build-amd64-xsm <job status> broken build-arm64 <job status> broken build-arm64-pvops <job status> broken build-arm64-xsm <job status> broken build-armhf-pvops <job status> broken build-i386 <job status> broken build-i386-pvops <job status> broken build-i386-xsm <job status> broken build-amd64 4 host-install(4) broken REGR. vs. 168856 build-i386-xsm 4 host-install(4) broken REGR. vs. 168856 build-i386 4 host-install(4) broken REGR. vs. 168856 build-i386-pvops 4 host-install(4) broken REGR. vs. 168856 build-arm64 4 host-install(4) broken REGR. vs. 168856 build-arm64-pvops 4 host-install(4) broken REGR. vs. 168856 build-arm64-xsm 4 host-install(4) broken REGR. vs. 168856 build-amd64-pvops 4 host-install(4) broken REGR. vs. 168856 build-armhf-pvops 4 host-install(4) broken REGR. vs. 168856 build-amd64-xsm 4 host-install(4) broken REGR. vs. 168856 Tests which did not succeed, but are not blocking: test-arm64-arm64-libvirt-raw 1 build-check(1) blocked n/a test-arm64-arm64-libvirt-xsm 1 build-check(1) blocked n/a test-arm64-arm64-xl 1 build-check(1) blocked n/a test-arm64-arm64-xl-credit1 1 build-check(1) blocked n/a test-arm64-arm64-xl-credit2 1 build-check(1) blocked n/a test-arm64-arm64-xl-seattle 1 build-check(1) blocked n/a test-arm64-arm64-xl-thunderx 1 build-check(1) blocked n/a test-arm64-arm64-xl-vhd 1 build-check(1) blocked n/a test-arm64-arm64-xl-xsm 1 build-check(1) blocked n/a test-armhf-armhf-libvirt 1 build-check(1) blocked n/a test-armhf-armhf-libvirt-qcow2 1 build-check(1) blocked n/a test-armhf-armhf-libvirt-raw 1 build-check(1) blocked n/a test-armhf-armhf-xl 1 build-check(1) blocked n/a test-armhf-armhf-xl-credit2 1 build-check(1) blocked n/a test-armhf-armhf-xl-cubietruck 1 build-check(1) blocked n/a test-armhf-armhf-xl-multivcpu 1 build-check(1) blocked n/a test-armhf-armhf-xl-rtds 1 build-check(1) blocked n/a test-armhf-armhf-xl-vhd 1 build-check(1) blocked n/a test-amd64-i386-qemuu-rhel6hvm-amd 1 build-check(1) blocked n/a test-amd64-i386-pair 1 build-check(1) blocked n/a test-amd64-i386-libvirt-xsm 1 build-check(1) blocked n/a test-amd64-i386-libvirt-raw 1 build-check(1) blocked n/a test-amd64-i386-libvirt-qemuu-debianhvm-amd64-xsm 1 build-check(1) blocked n/a test-amd64-i386-libvirt-pair 1 build-check(1) blocked n/a test-amd64-i386-libvirt 1 build-check(1) blocked n/a test-amd64-i386-freebsd10-i386 1 build-check(1) blocked n/a test-amd64-i386-freebsd10-amd64 1 build-check(1) blocked n/a test-amd64-coresched-i386-xl 1 build-check(1) blocked n/a test-amd64-coresched-amd64-xl 1 build-check(1) blocked n/a test-amd64-amd64-xl-xsm 1 build-check(1) blocked n/a build-amd64-libvirt 1 build-check(1) blocked n/a test-amd64-amd64-xl-shadow 1 build-check(1) blocked n/a test-amd64-amd64-xl-rtds 1 build-check(1) blocked n/a build-arm64-libvirt 1 build-check(1) blocked n/a test-amd64-amd64-xl-qemuu-ws16-amd64 1 build-check(1) blocked n/a test-amd64-amd64-xl-qemuu-win7-amd64 1 build-check(1) blocked n/a test-amd64-amd64-xl-qemuu-ovmf-amd64 1 build-check(1) blocked n/a test-amd64-amd64-xl-qemuu-dmrestrict-amd64-dmrestrict 1 build-check(1) blocked n/a build-i386-libvirt 1 build-check(1) blocked n/a test-amd64-amd64-xl-qemuu-debianhvm-i386-xsm 1 build-check(1) blocked n/a test-amd64-amd64-dom0pvh-xl-amd 1 build-check(1) blocked n/a test-amd64-amd64-xl-qemuu-debianhvm-amd64-shadow 1 build-check(1) blocked n/a test-amd64-amd64-dom0pvh-xl-intel 1 build-check(1) blocked n/a test-amd64-amd64-xl-qemuu-debianhvm-amd64 1 build-check(1) blocked n/a test-amd64-amd64-libvirt 1 build-check(1) blocked n/a test-amd64-amd64-libvirt-pair 1 build-check(1) blocked n/a test-amd64-amd64-libvirt-qemuu-debianhvm-amd64-xsm 1 build-check(1) blocked n/a test-amd64-amd64-xl-qcow2 1 build-check(1) blocked n/a test-amd64-amd64-libvirt-vhd 1 build-check(1) blocked n/a test-amd64-amd64-libvirt-xsm 1 build-check(1) blocked n/a test-amd64-amd64-xl-pvshim 1 build-check(1) blocked n/a test-amd64-amd64-pair 1 build-check(1) blocked n/a test-amd64-amd64-pygrub 1 build-check(1) blocked n/a test-amd64-amd64-xl-pvhv2-intel 1 build-check(1) blocked n/a test-amd64-amd64-qemuu-freebsd11-amd64 1 build-check(1) blocked n/a test-amd64-amd64-qemuu-freebsd12-amd64 1 build-check(1) blocked n/a test-amd64-amd64-xl-pvhv2-amd 1 build-check(1) blocked n/a test-amd64-amd64-qemuu-nested-amd 1 build-check(1) blocked n/a test-amd64-amd64-qemuu-nested-intel 1 build-check(1) blocked n/a test-amd64-amd64-xl-multivcpu 1 build-check(1) blocked n/a test-amd64-amd64-xl 1 build-check(1) blocked n/a test-amd64-amd64-xl-credit1 1 build-check(1) blocked n/a test-amd64-amd64-xl-credit2 1 build-check(1) blocked n/a test-armhf-armhf-xl-arndale 1 build-check(1) blocked n/a test-armhf-armhf-xl-credit1 1 build-check(1) blocked n/a test-amd64-i386-qemuu-rhel6hvm-intel 1 build-check(1) blocked n/a test-amd64-i386-xl 1 build-check(1) blocked n/a test-amd64-i386-xl-pvshim 1 build-check(1) blocked n/a test-amd64-i386-xl-qemuu-debianhvm-amd64 1 build-check(1) blocked n/a test-amd64-i386-xl-qemuu-debianhvm-amd64-shadow 1 build-check(1) blocked n/a test-amd64-i386-xl-qemuu-debianhvm-i386-xsm 1 build-check(1) blocked n/a test-amd64-i386-xl-qemuu-dmrestrict-amd64-dmrestrict 1 build-check(1) blocked n/a test-amd64-i386-xl-qemuu-ovmf-amd64 1 build-check(1) blocked n/a test-amd64-i386-xl-qemuu-win7-amd64 1 build-check(1) blocked n/a test-amd64-i386-xl-qemuu-ws16-amd64 1 build-check(1) blocked n/a test-amd64-i386-xl-shadow 1 build-check(1) blocked n/a test-amd64-i386-xl-vhd 1 build-check(1) blocked n/a test-amd64-i386-xl-xsm 1 build-check(1) blocked n/a version targeted for testing: qemuu 27fc9f365d6f60ff86c2e2be57289bb47a2be882 baseline version: qemuu f345abe36527a8b575482bb5a0616f43952bf1f4 Last test of basis 168856 2022-03-25 15:08:16 Z 3 days Failing since 168873 2022-03-26 10:38:21 Z 3 days 4 attempts Testing same since 168962 2022-03-29 01:06:54 Z 0 days 1 attempts ------------------------------------------------------------ People who touched revisions under test: Cédric Le Goater <clg@xxxxxxxx> Matheus Ferst <matheus.ferst@xxxxxxxxxxxxxxx> Peter Maydell <peter.maydell@xxxxxxxxxx> Richard Henderson <richard.henderson@xxxxxxxxxx> Víctor Colombo <victor.colombo@xxxxxxxxxxxxxxx> jobs: build-amd64-xsm broken build-arm64-xsm broken build-i386-xsm broken build-amd64 broken build-arm64 broken build-armhf pass build-i386 broken build-amd64-libvirt blocked build-arm64-libvirt blocked build-armhf-libvirt pass build-i386-libvirt blocked build-amd64-pvops broken build-arm64-pvops broken build-armhf-pvops broken build-i386-pvops broken test-amd64-amd64-xl blocked test-amd64-coresched-amd64-xl blocked test-arm64-arm64-xl blocked test-armhf-armhf-xl blocked test-amd64-i386-xl blocked test-amd64-coresched-i386-xl blocked test-amd64-amd64-libvirt-qemuu-debianhvm-amd64-xsm blocked test-amd64-i386-libvirt-qemuu-debianhvm-amd64-xsm blocked test-amd64-amd64-xl-qemuu-debianhvm-i386-xsm blocked test-amd64-i386-xl-qemuu-debianhvm-i386-xsm blocked test-amd64-amd64-libvirt-xsm blocked test-arm64-arm64-libvirt-xsm blocked test-amd64-i386-libvirt-xsm blocked test-amd64-amd64-xl-xsm blocked test-arm64-arm64-xl-xsm blocked test-amd64-i386-xl-xsm blocked test-amd64-amd64-qemuu-nested-amd blocked test-amd64-amd64-xl-pvhv2-amd blocked test-amd64-i386-qemuu-rhel6hvm-amd blocked test-amd64-amd64-dom0pvh-xl-amd blocked test-amd64-amd64-xl-qemuu-debianhvm-amd64 blocked test-amd64-i386-xl-qemuu-debianhvm-amd64 blocked test-amd64-i386-freebsd10-amd64 blocked test-amd64-amd64-qemuu-freebsd11-amd64 blocked test-amd64-amd64-qemuu-freebsd12-amd64 blocked test-amd64-amd64-xl-qemuu-ovmf-amd64 blocked test-amd64-i386-xl-qemuu-ovmf-amd64 blocked test-amd64-amd64-xl-qemuu-win7-amd64 blocked test-amd64-i386-xl-qemuu-win7-amd64 blocked test-amd64-amd64-xl-qemuu-ws16-amd64 blocked test-amd64-i386-xl-qemuu-ws16-amd64 blocked test-armhf-armhf-xl-arndale blocked test-amd64-amd64-xl-credit1 blocked test-arm64-arm64-xl-credit1 blocked test-armhf-armhf-xl-credit1 blocked test-amd64-amd64-xl-credit2 blocked test-arm64-arm64-xl-credit2 blocked test-armhf-armhf-xl-credit2 blocked test-armhf-armhf-xl-cubietruck blocked test-amd64-amd64-xl-qemuu-dmrestrict-amd64-dmrestrict blocked test-amd64-i386-xl-qemuu-dmrestrict-amd64-dmrestrict blocked test-amd64-i386-freebsd10-i386 blocked test-amd64-amd64-qemuu-nested-intel blocked test-amd64-amd64-xl-pvhv2-intel blocked test-amd64-i386-qemuu-rhel6hvm-intel blocked test-amd64-amd64-dom0pvh-xl-intel blocked test-amd64-amd64-libvirt blocked test-armhf-armhf-libvirt blocked test-amd64-i386-libvirt blocked test-amd64-amd64-xl-multivcpu blocked test-armhf-armhf-xl-multivcpu blocked test-amd64-amd64-pair blocked test-amd64-i386-pair blocked test-amd64-amd64-libvirt-pair blocked test-amd64-i386-libvirt-pair blocked test-amd64-amd64-xl-pvshim blocked test-amd64-i386-xl-pvshim blocked test-amd64-amd64-pygrub blocked test-armhf-armhf-libvirt-qcow2 blocked test-amd64-amd64-xl-qcow2 blocked test-arm64-arm64-libvirt-raw blocked test-armhf-armhf-libvirt-raw blocked test-amd64-i386-libvirt-raw blocked test-amd64-amd64-xl-rtds blocked test-armhf-armhf-xl-rtds blocked test-arm64-arm64-xl-seattle blocked test-amd64-amd64-xl-qemuu-debianhvm-amd64-shadow blocked test-amd64-i386-xl-qemuu-debianhvm-amd64-shadow blocked test-amd64-amd64-xl-shadow blocked test-amd64-i386-xl-shadow blocked test-arm64-arm64-xl-thunderx blocked test-amd64-amd64-libvirt-vhd blocked test-arm64-arm64-xl-vhd blocked test-armhf-armhf-xl-vhd blocked test-amd64-i386-xl-vhd blocked ------------------------------------------------------------ sg-report-flight on osstest.test-lab.xenproject.org logs: /home/logs/logs images: /home/logs/images Logs, config files, etc. are available at http://logs.test-lab.xenproject.org/osstest/logs Explanation of these reports, and of osstest in general, is at http://xenbits.xen.org/gitweb/?p=osstest.git;a=blob;f=README.email;hb=master http://xenbits.xen.org/gitweb/?p=osstest.git;a=blob;f=README;hb=master Test harness code can be found at http://xenbits.xen.org/gitweb?p=osstest.git;a=summary broken-job build-amd64 broken broken-job build-amd64-pvops broken broken-job build-amd64-xsm broken broken-job build-arm64 broken broken-job build-arm64-pvops broken broken-job build-arm64-xsm broken broken-job build-armhf-pvops broken broken-job build-i386 broken broken-job build-i386-pvops broken broken-job build-i386-xsm broken broken-step build-amd64 host-install(4) broken-step build-i386-xsm host-install(4) broken-step build-i386 host-install(4) broken-step build-i386-pvops host-install(4) broken-step build-arm64 host-install(4) broken-step build-arm64-pvops host-install(4) broken-step build-arm64-xsm host-install(4) broken-step build-amd64-pvops host-install(4) broken-step build-armhf-pvops host-install(4) broken-step build-amd64-xsm host-install(4) Not pushing. ------------------------------------------------------------ commit 27fc9f365d6f60ff86c2e2be57289bb47a2be882 Merge: 3d31fe4d66 bc504838ff Author: Peter Maydell <peter.maydell@xxxxxxxxxx> Date: Mon Mar 28 10:16:33 2022 +0100 Merge tag 'pull-ppc-20220326' of https://github.com/legoater/qemu into staging ppc-7.0 queue: * target/ppc: fix helper_xvmadd* argument order # gpg: Signature made Sat 26 Mar 2022 12:57:54 GMT # gpg: using RSA key A0F66548F04895EBFE6B0B6051A343C7CFFBECA1 # gpg: Good signature from "Cédric Le Goater <clg@xxxxxxxx>" [undefined] # gpg: WARNING: This key is not certified with a trusted signature! # gpg: There is no indication that the signature belongs to the owner. # Primary key fingerprint: A0F6 6548 F048 95EB FE6B 0B60 51A3 43C7 CFFB ECA1 * tag 'pull-ppc-20220326' of https://github.com/legoater/qemu: target/ppc: fix helper_xvmadd* argument order Signed-off-by: Peter Maydell <peter.maydell@xxxxxxxxxx> commit bc504838ff88b505421dd28841ee298d9cff31d0 Author: Matheus Ferst <matheus.ferst@xxxxxxxxxxxxxxx> Date: Sat Mar 26 13:52:37 2022 +0100 target/ppc: fix helper_xvmadd* argument order When the xsmadd* insns were moved to decodetree, the helper arguments were reordered to better match the PowerISA description. The same macro is used to declare xvmadd* helpers, but the translation macro of these insns was not changed accordingly. Reported-by: Víctor Colombo <victor.colombo@xxxxxxxxxxxxxxx> Fixes: e4318ab2e423 ("target/ppc: move xs[n]madd[am][ds]p/xs[n]msub[am][ds]p to decodetree") Signed-off-by: Matheus Ferst <matheus.ferst@xxxxxxxxxxxxxxx> Reviewed-by: Daniel Henrique Barboza <danielhb413@xxxxxxxxx> Tested-by: Víctor Colombo <victor.colombo@xxxxxxxxxxxxxxx> Message-Id: <20220325111851.718966-1-matheus.ferst@xxxxxxxxxxxxxxx> Signed-off-by: Cédric Le Goater <clg@xxxxxxxx> commit 3d31fe4d662f13c70eb7e87f29513623ccd76322 Merge: f345abe365 c7ca3ad5e7 Author: Peter Maydell <peter.maydell@xxxxxxxxxx> Date: Fri Mar 25 15:02:39 2022 +0000 Merge tag 'pull-target-arm-20220325' of https://git.linaro.org/people/pmaydell/qemu-arm into staging target-arm queue: * hw/intc/arm_gicv3_its: Add missing newlines to process_mapc() logging * target/arm: Fix sve_ld1_z and sve_st1_z vs MMIO # gpg: Signature made Fri 25 Mar 2022 14:56:48 GMT # gpg: using RSA key E1A5C593CD419DE28E8315CF3C2525ED14360CDE # gpg: issuer "peter.maydell@xxxxxxxxxx" # gpg: Good signature from "Peter Maydell <peter.maydell@xxxxxxxxxx>" [ultimate] # gpg: aka "Peter Maydell <pmaydell@xxxxxxxxx>" [ultimate] # gpg: aka "Peter Maydell <pmaydell@xxxxxxxxxxxxxxxxxxxxxx>" [ultimate] # Primary key fingerprint: E1A5 C593 CD41 9DE2 8E83 15CF 3C25 25ED 1436 0CDE * tag 'pull-target-arm-20220325' of https://git.linaro.org/people/pmaydell/qemu-arm: hw/intc/arm_gicv3_its: Add missing newlines to process_mapc() logging target/arm: Fix sve_ld1_z and sve_st1_z vs MMIO Signed-off-by: Peter Maydell <peter.maydell@xxxxxxxxxx> commit c7ca3ad5e756e263daf082c315e311593ccec3d1 Author: Peter Maydell <peter.maydell@xxxxxxxxxx> Date: Fri Mar 25 14:41:06 2022 +0000 hw/intc/arm_gicv3_its: Add missing newlines to process_mapc() logging In commit 84d43d2e82da we rearranged the logging of errors in process_mapc(), and inadvertently dropped the trailing newlines from the log messages. Restore them. The same commit also attempted to switch the ICID printing to hex (which is how we print ICIDs elsewhere) but only did half the job, adding the 0x prefix but leaving the format string at %d; correct to %x. Fixes: 84d43d2e82da ("hw/intc/arm_gicv3_its: In MAPC with V=0, don't check rdbase field") Signed-off-by: Peter Maydell <peter.maydell@xxxxxxxxxx> Reviewed-by: Richard Henderson <richard.henderson@xxxxxxxxxx> Reviewed-by: Philippe Mathieu-Daudé <f4bug@xxxxxxxxx> commit 6222c3acc4f36fc31d057e1afb6b5c408f83d343 Author: Richard Henderson <richard.henderson@xxxxxxxxxx> Date: Fri Mar 25 14:41:06 2022 +0000 target/arm: Fix sve_ld1_z and sve_st1_z vs MMIO Both of these functions missed handling the TLB_MMIO flag during the conversion to handle MTE. Fixes: 10a85e2c8ab6 ("target/arm: Reuse sve_probe_page for gather loads") Resolves: https://gitlab.com/qemu-project/qemu/-/issues/925 Signed-off-by: Richard Henderson <richard.henderson@xxxxxxxxxx> Message-id: 20220324010932.190428-1-richard.henderson@xxxxxxxxxx Reviewed-by: Peter Maydell <peter.maydell@xxxxxxxxxx> Signed-off-by: Peter Maydell <peter.maydell@xxxxxxxxxx>
|
Lists.xenproject.org is hosted with RackSpace, monitoring our |