[Date Prev][Date Next][Thread Prev][Thread Next][Date Index][Thread Index] [ovmf test] 168254: all pass - PUSHED
flight 168254 ovmf real [real] http://logs.test-lab.xenproject.org/osstest/logs/168254/ Perfect :-) All tests in this flight passed as required version targeted for testing: ovmf b1b89f9009f2390652e0061bd7b24fc40732bc70 baseline version: ovmf f1d1c337e7c0575da7fd248b2dd9cffc755940df Last test of basis 168249 2022-02-28 03:11:49 Z 0 days Testing same since 168254 2022-02-28 10:41:46 Z 0 days 1 attempts ------------------------------------------------------------ People who touched revisions under test: Hao A Wu <hao.a.wu@xxxxxxxxx> Tomas Pilar <quic_tpilar@xxxxxxxxxxx> jobs: build-amd64-xsm pass build-i386-xsm pass build-amd64 pass build-i386 pass build-amd64-libvirt pass build-i386-libvirt pass build-amd64-pvops pass build-i386-pvops pass test-amd64-amd64-xl-qemuu-ovmf-amd64 pass test-amd64-i386-xl-qemuu-ovmf-amd64 pass ------------------------------------------------------------ sg-report-flight on osstest.test-lab.xenproject.org logs: /home/logs/logs images: /home/logs/images Logs, config files, etc. are available at http://logs.test-lab.xenproject.org/osstest/logs Explanation of these reports, and of osstest in general, is at http://xenbits.xen.org/gitweb/?p=osstest.git;a=blob;f=README.email;hb=master http://xenbits.xen.org/gitweb/?p=osstest.git;a=blob;f=README;hb=master Test harness code can be found at http://xenbits.xen.org/gitweb?p=osstest.git;a=summary Pushing revision : To xenbits.xen.org:/home/xen/git/osstest/ovmf.git f1d1c337e7..b1b89f9009 b1b89f9009f2390652e0061bd7b24fc40732bc70 -> xen-tested-master
|
![]() |
Lists.xenproject.org is hosted with RackSpace, monitoring our |