[Date Prev][Date Next][Thread Prev][Thread Next][Date Index][Thread Index] [ovmf test] 168042: all pass - PUSHED
flight 168042 ovmf real [real] http://logs.test-lab.xenproject.org/osstest/logs/168042/ Perfect :-) All tests in this flight passed as required version targeted for testing: ovmf f78b937c95ddc4f7a29e41fee98e96076828a108 baseline version: ovmf 6fb09da89f88000a7592171a0ce08cf1feaa0646 Last test of basis 168038 2022-02-07 01:55:23 Z 0 days Testing same since 168042 2022-02-07 06:41:36 Z 0 days 1 attempts ------------------------------------------------------------ People who touched revisions under test: Gerd Hoffmann <kraxel@xxxxxxxxxx> Jake Garver <jake@xxxxxxxxxx> Jake Garver via groups.io <jake=nvidia.com@xxxxxxxxx> Wei6 Xu <wei6.xu@xxxxxxxxx> jobs: build-amd64-xsm pass build-i386-xsm pass build-amd64 pass build-i386 pass build-amd64-libvirt pass build-i386-libvirt pass build-amd64-pvops pass build-i386-pvops pass test-amd64-amd64-xl-qemuu-ovmf-amd64 pass test-amd64-i386-xl-qemuu-ovmf-amd64 pass ------------------------------------------------------------ sg-report-flight on osstest.test-lab.xenproject.org logs: /home/logs/logs images: /home/logs/images Logs, config files, etc. are available at http://logs.test-lab.xenproject.org/osstest/logs Explanation of these reports, and of osstest in general, is at http://xenbits.xen.org/gitweb/?p=osstest.git;a=blob;f=README.email;hb=master http://xenbits.xen.org/gitweb/?p=osstest.git;a=blob;f=README;hb=master Test harness code can be found at http://xenbits.xen.org/gitweb?p=osstest.git;a=summary Pushing revision : To xenbits.xen.org:/home/xen/git/osstest/ovmf.git 6fb09da89f..f78b937c95 f78b937c95ddc4f7a29e41fee98e96076828a108 -> xen-tested-master
|
![]() |
Lists.xenproject.org is hosted with RackSpace, monitoring our |