[Date Prev][Date Next][Thread Prev][Thread Next][Date Index][Thread Index] [ovmf test] 167535: all pass - PUSHED
flight 167535 ovmf real [real] http://logs.test-lab.xenproject.org/osstest/logs/167535/ Perfect :-) All tests in this flight passed as required version targeted for testing: ovmf 6612ff85611bc2be16dc0fd5de0e1413df88941a baseline version: ovmf 15c596aeebc24bb97deb78d98bd8517a8b9ac243 Last test of basis 167527 2021-12-23 08:11:36 Z 1 days Testing same since 167535 2021-12-24 09:12:58 Z 0 days 1 attempts ------------------------------------------------------------ People who touched revisions under test: Longlong Yang <longlong.yang@xxxxxxxxx> Yang, Longlong <longlong.yang@xxxxxxxxx> jobs: build-amd64-xsm pass build-i386-xsm pass build-amd64 pass build-i386 pass build-amd64-libvirt pass build-i386-libvirt pass build-amd64-pvops pass build-i386-pvops pass test-amd64-amd64-xl-qemuu-ovmf-amd64 pass test-amd64-i386-xl-qemuu-ovmf-amd64 pass ------------------------------------------------------------ sg-report-flight on osstest.test-lab.xenproject.org logs: /home/logs/logs images: /home/logs/images Logs, config files, etc. are available at http://logs.test-lab.xenproject.org/osstest/logs Explanation of these reports, and of osstest in general, is at http://xenbits.xen.org/gitweb/?p=osstest.git;a=blob;f=README.email;hb=master http://xenbits.xen.org/gitweb/?p=osstest.git;a=blob;f=README;hb=master Test harness code can be found at http://xenbits.xen.org/gitweb?p=osstest.git;a=summary Pushing revision : To xenbits.xen.org:/home/xen/git/osstest/ovmf.git 15c596aeeb..6612ff8561 6612ff85611bc2be16dc0fd5de0e1413df88941a -> xen-tested-master
|
![]() |
Lists.xenproject.org is hosted with RackSpace, monitoring our |