[Date Prev][Date Next][Thread Prev][Thread Next][Date Index][Thread Index] [xen-unstable-coverity test] 163562: all pass - PUSHED
flight 163562 xen-unstable-coverity real [real] http://logs.test-lab.xenproject.org/osstest/logs/163562/ Perfect :-) All tests in this flight passed as required version targeted for testing: xen 6de3e5fce5e2a3c5f438e8e214168dd3a474cbbf baseline version: xen 4473f3601098a2c3cf5ab89d5a29504772985e3a Last test of basis 163396 2021-07-07 09:23:02 Z 4 days Testing same since 163562 2021-07-11 09:18:28 Z 0 days 1 attempts ------------------------------------------------------------ People who touched revisions under test: Andrew Cooper <andrew.cooper3@xxxxxxxxxx> Anthony PERARD <anthony.perard@xxxxxxxxxx> Bertrand Marquis <bertrand.marquis@xxxxxxx> Christopher Clark <christopher.clark@xxxxxxxxxx> Daniel P. Smith <dpsmith@xxxxxxxxxxxxxxxxxxxx> Jan Beulich <jbeulich@xxxxxxxx> Julien Grall <jgrall@xxxxxxxxxx> Marek Marczykowski-Górecki <marmarek@xxxxxxxxxxxxxxxxxxxxxx> Michal Orzel <michal.orzel@xxxxxxx> Olaf Hering <olaf@xxxxxxxxx> Rahul Singh <rahul.singh@xxxxxxx> Richard Kojedzinszky <richard@xxxxxxxxx> Roger Pau Monné <roger.pau@xxxxxxxxxx> Tamas K Lengyel <tamas@xxxxxxxxxxxxx> jobs: coverity-amd64 pass ------------------------------------------------------------ sg-report-flight on osstest.test-lab.xenproject.org logs: /home/logs/logs images: /home/logs/images Logs, config files, etc. are available at http://logs.test-lab.xenproject.org/osstest/logs Explanation of these reports, and of osstest in general, is at http://xenbits.xen.org/gitweb/?p=osstest.git;a=blob;f=README.email;hb=master http://xenbits.xen.org/gitweb/?p=osstest.git;a=blob;f=README;hb=master Test harness code can be found at http://xenbits.xen.org/gitweb?p=osstest.git;a=summary Pushing revision : To xenbits.xen.org:/home/xen/git/xen.git 4473f36010..6de3e5fce5 6de3e5fce5e2a3c5f438e8e214168dd3a474cbbf -> coverity-tested/smoke
|
Lists.xenproject.org is hosted with RackSpace, monitoring our |