[Date Prev][Date Next][Thread Prev][Thread Next][Date Index][Thread Index] [Xen-devel] [xen-unstable test] 2293: trouble: blocked/broken/pass
flight 2293 xen-unstable real http://www.chiark.greenend.org.uk/~xensrcts/logs/2293/ Failures and problems with tests :-( tests which did not succeed: build-amd64-oldkern 1 host-install(1) broken build-amd64 1 host-install(1) broken build-i386-oldkern 1 host-install(1) broken build-i386 1 host-install(1) broken test-amd64-amd64-pair 1 xen-build-check(1) blocked n/a test-amd64-amd64-pv 1 xen-build-check(1) blocked n/a test-amd64-amd64-win 1 xen-build-check(1) blocked n/a test-amd64-amd64-xl 1 xen-build-check(1) blocked n/a test-amd64-i386-pair 1 xen-build-check(1) blocked n/a test-amd64-i386-pv 1 xen-build-check(1) blocked n/a test-amd64-i386-win 1 xen-build-check(1) blocked n/a test-amd64-i386-xl 1 xen-build-check(1) blocked n/a test-amd64-xcpkern-i386-pair 1 xen-build-check(1) blocked n/a test-amd64-xcpkern-i386-pv 1 xen-build-check(1) blocked n/a test-amd64-xcpkern-i386-win 1 xen-build-check(1) blocked n/a test-amd64-xcpkern-i386-xl 1 xen-build-check(1) blocked n/a test-i386-i386-pair 1 xen-build-check(1) blocked n/a test-i386-i386-pv 1 xen-build-check(1) blocked n/a test-i386-i386-win 1 xen-build-check(1) blocked n/a test-i386-i386-xl 1 xen-build-check(1) blocked n/a test-i386-xcpkern-i386-pair 1 xen-build-check(1) blocked n/a test-i386-xcpkern-i386-pv 1 xen-build-check(1) blocked n/a test-i386-xcpkern-i386-win 1 xen-build-check(1) blocked n/a test-i386-xcpkern-i386-xl 1 xen-build-check(1) blocked n/a version targeted for testing: xen c8331262efe6 baseline version: xen 5393151a737b jobs: build-i386-xcpkern pass build-amd64 broken build-i386 broken build-amd64-oldkern broken build-i386-oldkern broken test-amd64-amd64-xl blocked test-amd64-i386-xl blocked test-i386-i386-xl blocked test-amd64-xcpkern-i386-xl blocked test-i386-xcpkern-i386-xl blocked test-amd64-amd64-pair blocked test-amd64-i386-pair blocked test-i386-i386-pair blocked test-amd64-xcpkern-i386-pair blocked test-i386-xcpkern-i386-pair blocked test-amd64-amd64-pv blocked test-amd64-i386-pv blocked test-i386-i386-pv blocked test-amd64-xcpkern-i386-pv blocked test-i386-xcpkern-i386-pv blocked test-amd64-amd64-win blocked test-amd64-i386-win blocked test-i386-i386-win blocked test-amd64-xcpkern-i386-win blocked test-i386-xcpkern-i386-win blocked ------------------------------------------------------------------------------- build-i386-xcpkern: 1 host-install(1) pass 2 host-build-prep pass 3 kernel-build pass linux 110879:32fc6955a6a5 pq_linux 156:7eea17db9add ------------------------------------------------------------------------------- build-amd64: 1 host-install(1) broken 2 logs-capture(2) pass ------------------------------------------------------------------------------- build-i386: 1 host-install(1) broken 2 logs-capture(2) pass ------------------------------------------------------------------------------- build-amd64-oldkern: 1 host-install(1) broken 2 logs-capture(2) pass ------------------------------------------------------------------------------- build-i386-oldkern: 1 host-install(1) broken 2 logs-capture(2) pass ------------------------------------------------------------------------------- test-amd64-amd64-xl: 1 xen-build-check(1) blocked ------------------------------------------------------------------------------- test-amd64-i386-xl: 1 xen-build-check(1) blocked ------------------------------------------------------------------------------- test-i386-i386-xl: 1 xen-build-check(1) blocked ------------------------------------------------------------------------------- test-amd64-xcpkern-i386-xl: 1 xen-build-check(1) blocked ------------------------------------------------------------------------------- test-i386-xcpkern-i386-xl: 1 xen-build-check(1) blocked ------------------------------------------------------------------------------- test-amd64-amd64-pair: 1 xen-build-check(1) blocked ------------------------------------------------------------------------------- test-amd64-i386-pair: 1 xen-build-check(1) blocked ------------------------------------------------------------------------------- test-i386-i386-pair: 1 xen-build-check(1) blocked ------------------------------------------------------------------------------- test-amd64-xcpkern-i386-pair: 1 xen-build-check(1) blocked ------------------------------------------------------------------------------- test-i386-xcpkern-i386-pair: 1 xen-build-check(1) blocked ------------------------------------------------------------------------------- test-amd64-amd64-pv: 1 xen-build-check(1) blocked ------------------------------------------------------------------------------- test-amd64-i386-pv: 1 xen-build-check(1) blocked ------------------------------------------------------------------------------- test-i386-i386-pv: 1 xen-build-check(1) blocked ------------------------------------------------------------------------------- test-amd64-xcpkern-i386-pv: 1 xen-build-check(1) blocked ------------------------------------------------------------------------------- test-i386-xcpkern-i386-pv: 1 xen-build-check(1) blocked ------------------------------------------------------------------------------- test-amd64-amd64-win: 1 xen-build-check(1) blocked ------------------------------------------------------------------------------- test-amd64-i386-win: 1 xen-build-check(1) blocked ------------------------------------------------------------------------------- test-i386-i386-win: 1 xen-build-check(1) blocked ------------------------------------------------------------------------------- test-amd64-xcpkern-i386-win: 1 xen-build-check(1) blocked ------------------------------------------------------------------------------- test-i386-xcpkern-i386-win: 1 xen-build-check(1) blocked ------------------------------------------------------------ sg-report-flight on woking.cam.xci-test.com logs: /home/xc_osstest/logs images: /home/xc_osstest/images Logs, config files, etc. are available at http://www.chiark.greenend.org.uk/~xensrcts/logs Test harness code can be found at http://xenbits.xensource.com/gitweb?p=osstest.git;a=summary Not pushing. _______________________________________________ Xen-devel mailing list Xen-devel@xxxxxxxxxxxxxxxxxxx http://lists.xensource.com/xen-devel
|
![]() |
Lists.xenproject.org is hosted with RackSpace, monitoring our |